BEGIN:VCALENDAR
VERSION:2.0
PRODID:-//VarGes - ECPv6.15.20//NONSGML v1.0//EN
CALSCALE:GREGORIAN
METHOD:PUBLISH
X-ORIGINAL-URL:https://varges.at
X-WR-CALDESC:Veranstaltungen für VarGes
REFRESH-INTERVAL;VALUE=DURATION:PT1H
X-Robots-Tag:noindex
X-PUBLISHED-TTL:PT1H
BEGIN:VTIMEZONE
TZID:Europe/Vienna
BEGIN:DAYLIGHT
TZOFFSETFROM:+0100
TZOFFSETTO:+0200
TZNAME:CEST
DTSTART:20240331T010000
END:DAYLIGHT
BEGIN:STANDARD
TZOFFSETFROM:+0200
TZOFFSETTO:+0100
TZNAME:CET
DTSTART:20241027T010000
END:STANDARD
BEGIN:DAYLIGHT
TZOFFSETFROM:+0100
TZOFFSETTO:+0200
TZNAME:CEST
DTSTART:20250330T010000
END:DAYLIGHT
BEGIN:STANDARD
TZOFFSETFROM:+0200
TZOFFSETTO:+0100
TZNAME:CET
DTSTART:20251026T010000
END:STANDARD
BEGIN:DAYLIGHT
TZOFFSETFROM:+0100
TZOFFSETTO:+0200
TZNAME:CEST
DTSTART:20260329T010000
END:DAYLIGHT
BEGIN:STANDARD
TZOFFSETFROM:+0200
TZOFFSETTO:+0100
TZNAME:CET
DTSTART:20261025T010000
END:STANDARD
END:VTIMEZONE
BEGIN:VEVENT
DTSTART;TZID=Europe/Vienna:20251022T090000
DTEND;TZID=Europe/Vienna:20251022T160000
DTSTAMP:20260423T235445
CREATED:20250912T103356Z
LAST-MODIFIED:20250912T103356Z
UID:4402-1761123600-1761148800@varges.at
SUMMARY:Seminar: Geschlechtersensibles Arbeiten mit Jugendlichen (FAB Organos)
DESCRIPTION:Tinou Ponzer ist Referent*in in einem mehrtätigen Seminar von FAB Organos\, das sich für (angehende) Fachkräfte aus Sozialpädagogik\, Sozialarbeit und angrenzenden Bereichen eignet\, die mit Jugendlichen arbeiten und ihre gendersensible Handlungskompetenz vertiefen möchten. Die Veranstaltung wird von FAB Organos organisiert und findet in Linz (erster Termin) und online (zwei Folgetermine) statt. Die Anmeldefrist ist am 22.09.2025. \nÜbersicht über die Termine: \n22.10.2025: 09:00-16:00 Uhr in Linz\n29.10. 2025: 09:00-12:30 Uhr online\n06.11.2025: 13:00-16:30 Uhr online \n  \nDie Seminarbeschreibung und weitere Informationen gibt es auf der Seite von FAB Organos: \nhttps://www.organos.at/bildungsprogramm/seminar/15634/geschlechtersensibles-arbeiten-mit-jugendlichen/
URL:https://varges.at/event/seminar-geschlechtersensibles-arbeiten-mit-jugendlichen-fab-organos/
END:VEVENT
END:VCALENDAR