BEGIN:VCALENDAR
VERSION:2.0
PRODID:-//VarGes - ECPv6.15.20//NONSGML v1.0//EN
CALSCALE:GREGORIAN
METHOD:PUBLISH
X-WR-CALNAME:VarGes
X-ORIGINAL-URL:https://varges.at
X-WR-CALDESC:Veranstaltungen für VarGes
REFRESH-INTERVAL;VALUE=DURATION:PT1H
X-Robots-Tag:noindex
X-PUBLISHED-TTL:PT1H
BEGIN:VTIMEZONE
TZID:Europe/Vienna
BEGIN:DAYLIGHT
TZOFFSETFROM:+0100
TZOFFSETTO:+0200
TZNAME:CEST
DTSTART:20240331T010000
END:DAYLIGHT
BEGIN:STANDARD
TZOFFSETFROM:+0200
TZOFFSETTO:+0100
TZNAME:CET
DTSTART:20241027T010000
END:STANDARD
BEGIN:DAYLIGHT
TZOFFSETFROM:+0100
TZOFFSETTO:+0200
TZNAME:CEST
DTSTART:20250330T010000
END:DAYLIGHT
BEGIN:STANDARD
TZOFFSETFROM:+0200
TZOFFSETTO:+0100
TZNAME:CET
DTSTART:20251026T010000
END:STANDARD
BEGIN:DAYLIGHT
TZOFFSETFROM:+0100
TZOFFSETTO:+0200
TZNAME:CEST
DTSTART:20260329T010000
END:DAYLIGHT
BEGIN:STANDARD
TZOFFSETFROM:+0200
TZOFFSETTO:+0100
TZNAME:CET
DTSTART:20261025T010000
END:STANDARD
END:VTIMEZONE
BEGIN:VEVENT
DTSTART;TZID=Europe/Vienna:20250928T100000
DTEND;TZID=Europe/Vienna:20250928T150000
DTSTAMP:20260424T012824
CREATED:20250827T124438Z
LAST-MODIFIED:20250912T103234Z
UID:4351-1759053600-1759071600@varges.at
SUMMARY:"Inter* - was ist das?" Workshop in Österreichischer Gebärdensprache
DESCRIPTION:„Inter* – Was ist das?“ \nBasic-Workshop zum Thema Inter* – in Österreichischer Gebärdensprache (ÖGS) \n  \nLinz: \n28.09.2025 (Sonntag) // 10:00 – 15:00 Uhr (inkl. Mittagspause) \nAdresse: Leharstraße 28\, 4020 Linz\,  \nIn Kooperation mit „Gehörlosenverband Oberösterreich“ \nAnmeldung bis 21. September bitte unter: bildung@varges.at \n 
URL:https://varges.at/event/inter-was-ist-das-workshop-in-oesterreichischer-gebaerdensprache/
END:VEVENT
BEGIN:VEVENT
DTSTART;TZID=Europe/Vienna:20250928T100000
DTEND;TZID=Europe/Vienna:20250928T150000
DTSTAMP:20260424T012824
CREATED:20250827T124632Z
LAST-MODIFIED:20250827T124632Z
UID:4358-1759053600-1759071600@varges.at
SUMMARY:Community-Workshop in Linz für Eltern mit intergeschlechtlichen Kindern
DESCRIPTION:Elternsein bringt viele Fragen mit sich – besonders wenn das eigene Kind inter* ist bzw. Variationen der Geschlechtsmerkmale hat. \nWie und wann spreche ich mit meinem Kind über sein Inter*-Sein? Wann und wie erkläre ich den anderen Familienmitgliedern\, worum es bei VdG/Intergeschlechtlichkeit geht? Wie gestalten wir den Alltag? Was tut uns gut? Wo(mit) finden wir die passende Unterstützung? Welche Gedanken und Sorgen bewegen uns als Eltern/Angehörige? \nGemeinsam wollen wir diesen Fragen nachgehen und ein für euch passendes Unterstützungsmodell kreieren. \nDie Kinder können mitkommen\, wir kümmern uns gemeinsam um einen guten Ablauf. Wir planen außerdem ein gemeinsames Mittagessen und sind auch flexibel\, was die Dauer des Workshops betrifft. Wenn ihr bestimmte aktuelle Themen habt\, die ihr gerne besprechen möchtet\, gebt uns gerne auch im Vorhinein schon Bescheid. \nAnmeldung bis 31. August unter: info@vimoe.at \n  \nDer Workshop wird ermöglicht durch:
URL:https://varges.at/event/community-workshop-in-linz-fuer-eltern-mit-intergeschlechtlichen-kindern/
END:VEVENT
END:VCALENDAR